BEGIN:VCALENDAR
VERSION:2.0
PRODID:-//Bridgewater Lutheran Church SA - ECPv6.15.14//NONSGML v1.0//EN
CALSCALE:GREGORIAN
METHOD:PUBLISH
X-WR-CALNAME:Bridgewater Lutheran Church SA
X-ORIGINAL-URL:https://bridgewater.lutheran.org.au
X-WR-CALDESC:Events for Bridgewater Lutheran Church SA
REFRESH-INTERVAL;VALUE=DURATION:PT1H
X-Robots-Tag:noindex
X-PUBLISHED-TTL:PT1H
BEGIN:VTIMEZONE
TZID:Australia/Adelaide
BEGIN:STANDARD
TZOFFSETFROM:+1030
TZOFFSETTO:+0930
TZNAME:ACST
DTSTART:20210403T163000
END:STANDARD
BEGIN:DAYLIGHT
TZOFFSETFROM:+0930
TZOFFSETTO:+1030
TZNAME:ACDT
DTSTART:20211002T163000
END:DAYLIGHT
BEGIN:STANDARD
TZOFFSETFROM:+1030
TZOFFSETTO:+0930
TZNAME:ACST
DTSTART:20220402T163000
END:STANDARD
BEGIN:DAYLIGHT
TZOFFSETFROM:+0930
TZOFFSETTO:+1030
TZNAME:ACDT
DTSTART:20221001T163000
END:DAYLIGHT
BEGIN:STANDARD
TZOFFSETFROM:+1030
TZOFFSETTO:+0930
TZNAME:ACST
DTSTART:20230401T163000
END:STANDARD
BEGIN:DAYLIGHT
TZOFFSETFROM:+0930
TZOFFSETTO:+1030
TZNAME:ACDT
DTSTART:20230930T163000
END:DAYLIGHT
BEGIN:STANDARD
TZOFFSETFROM:+1030
TZOFFSETTO:+0930
TZNAME:ACST
DTSTART:20240406T163000
END:STANDARD
BEGIN:DAYLIGHT
TZOFFSETFROM:+0930
TZOFFSETTO:+1030
TZNAME:ACDT
DTSTART:20241005T163000
END:DAYLIGHT
END:VTIMEZONE
BEGIN:VEVENT
DTSTART;TZID=Australia/Adelaide:20221002T103000
DTEND;TZID=Australia/Adelaide:20221002T113000
DTSTAMP:20260419T221229
CREATED:20220927T033445Z
LAST-MODIFIED:20251206T080524Z
UID:10000118-1664706600-1664710200@bridgewater.lutheran.org.au
SUMMARY:Worship with Holy Communion
DESCRIPTION:Worship at Grace (Sundays at 9.30am) follows a regular structure but is informal and relaxed. It’s relational and interactive. Most Sundays we celebrate the Lord’s Supper\, and there is often opportunity for private prayer afterwards. You are welcome to join us for worship in person (COVID sign-in and social distancing in place) or via Zoom. Click here to connect with us via Zoom (Password: Grace). Call Pastor Michael (church office phone 7120 6595) or email him if you would like to find out more about us and our style of worship.
URL:https://bridgewater.lutheran.org.au/event/worship-with-holy-communion/2022-10-02/
LOCATION:Grace Church\, Bridgewater (plus Zoom)\, 15 Wembley Avenue\, Bridgewater\, SA\, 5155\, Australia
CATEGORIES:Worship
ATTACH;FMTTYPE=image/jpeg:https://bridgewater.lutheran.org.au/wp-content/uploads/2021/02/grow12.jpg
ORGANIZER;CN="Pastor Michael Dutschke":MAILTO:michael.dutschke@lca.org.au
GEO:-35.0105323;138.7557833
X-APPLE-STRUCTURED-LOCATION;VALUE=URI;X-ADDRESS=Grace Church Bridgewater (plus Zoom) 15 Wembley Avenue Bridgewater SA 5155 Australia;X-APPLE-RADIUS=500;X-TITLE=15 Wembley Avenue:geo:138.7557833,-35.0105323
END:VEVENT
BEGIN:VEVENT
DTSTART;TZID=Australia/Adelaide:20221009T103000
DTEND;TZID=Australia/Adelaide:20221009T113000
DTSTAMP:20260419T221229
CREATED:20220927T033445Z
LAST-MODIFIED:20251206T080524Z
UID:10000119-1665311400-1665315000@bridgewater.lutheran.org.au
SUMMARY:Worship with Holy Communion
DESCRIPTION:Worship at Grace (Sundays at 9.30am) follows a regular structure but is informal and relaxed. It’s relational and interactive. Most Sundays we celebrate the Lord’s Supper\, and there is often opportunity for private prayer afterwards. You are welcome to join us for worship in person (COVID sign-in and social distancing in place) or via Zoom. Click here to connect with us via Zoom (Password: Grace). Call Pastor Michael (church office phone 7120 6595) or email him if you would like to find out more about us and our style of worship.
URL:https://bridgewater.lutheran.org.au/event/worship-with-holy-communion/2022-10-09/
LOCATION:Grace Church\, Bridgewater (plus Zoom)\, 15 Wembley Avenue\, Bridgewater\, SA\, 5155\, Australia
CATEGORIES:Worship
ATTACH;FMTTYPE=image/jpeg:https://bridgewater.lutheran.org.au/wp-content/uploads/2021/02/grow12.jpg
ORGANIZER;CN="Pastor Michael Dutschke":MAILTO:michael.dutschke@lca.org.au
GEO:-35.0105323;138.7557833
X-APPLE-STRUCTURED-LOCATION;VALUE=URI;X-ADDRESS=Grace Church Bridgewater (plus Zoom) 15 Wembley Avenue Bridgewater SA 5155 Australia;X-APPLE-RADIUS=500;X-TITLE=15 Wembley Avenue:geo:138.7557833,-35.0105323
END:VEVENT
BEGIN:VEVENT
DTSTART;TZID=Australia/Adelaide:20221016T103000
DTEND;TZID=Australia/Adelaide:20221016T113000
DTSTAMP:20260419T221229
CREATED:20220927T033445Z
LAST-MODIFIED:20251206T080524Z
UID:10000120-1665916200-1665919800@bridgewater.lutheran.org.au
SUMMARY:Worship with Holy Communion
DESCRIPTION:Worship at Grace (Sundays at 9.30am) follows a regular structure but is informal and relaxed. It’s relational and interactive. Most Sundays we celebrate the Lord’s Supper\, and there is often opportunity for private prayer afterwards. You are welcome to join us for worship in person (COVID sign-in and social distancing in place) or via Zoom. Click here to connect with us via Zoom (Password: Grace). Call Pastor Michael (church office phone 7120 6595) or email him if you would like to find out more about us and our style of worship.
URL:https://bridgewater.lutheran.org.au/event/worship-with-holy-communion/2022-10-16/
LOCATION:Grace Church\, Bridgewater (plus Zoom)\, 15 Wembley Avenue\, Bridgewater\, SA\, 5155\, Australia
CATEGORIES:Worship
ATTACH;FMTTYPE=image/jpeg:https://bridgewater.lutheran.org.au/wp-content/uploads/2021/02/grow12.jpg
ORGANIZER;CN="Pastor Michael Dutschke":MAILTO:michael.dutschke@lca.org.au
GEO:-35.0105323;138.7557833
X-APPLE-STRUCTURED-LOCATION;VALUE=URI;X-ADDRESS=Grace Church Bridgewater (plus Zoom) 15 Wembley Avenue Bridgewater SA 5155 Australia;X-APPLE-RADIUS=500;X-TITLE=15 Wembley Avenue:geo:138.7557833,-35.0105323
END:VEVENT
BEGIN:VEVENT
DTSTART;TZID=Australia/Adelaide:20221023T103000
DTEND;TZID=Australia/Adelaide:20221023T113000
DTSTAMP:20260419T221229
CREATED:20220927T033445Z
LAST-MODIFIED:20251206T080524Z
UID:10000121-1666521000-1666524600@bridgewater.lutheran.org.au
SUMMARY:Worship with Holy Communion
DESCRIPTION:Worship at Grace (Sundays at 9.30am) follows a regular structure but is informal and relaxed. It’s relational and interactive. Most Sundays we celebrate the Lord’s Supper\, and there is often opportunity for private prayer afterwards. You are welcome to join us for worship in person (COVID sign-in and social distancing in place) or via Zoom. Click here to connect with us via Zoom (Password: Grace). Call Pastor Michael (church office phone 7120 6595) or email him if you would like to find out more about us and our style of worship.
URL:https://bridgewater.lutheran.org.au/event/worship-with-holy-communion/2022-10-23/
LOCATION:Grace Church\, Bridgewater (plus Zoom)\, 15 Wembley Avenue\, Bridgewater\, SA\, 5155\, Australia
CATEGORIES:Worship
ATTACH;FMTTYPE=image/jpeg:https://bridgewater.lutheran.org.au/wp-content/uploads/2021/02/grow12.jpg
ORGANIZER;CN="Pastor Michael Dutschke":MAILTO:michael.dutschke@lca.org.au
GEO:-35.0105323;138.7557833
X-APPLE-STRUCTURED-LOCATION;VALUE=URI;X-ADDRESS=Grace Church Bridgewater (plus Zoom) 15 Wembley Avenue Bridgewater SA 5155 Australia;X-APPLE-RADIUS=500;X-TITLE=15 Wembley Avenue:geo:138.7557833,-35.0105323
END:VEVENT
BEGIN:VEVENT
DTSTART;TZID=Australia/Adelaide:20221030T103000
DTEND;TZID=Australia/Adelaide:20221030T113000
DTSTAMP:20260419T221229
CREATED:20220927T033445Z
LAST-MODIFIED:20251206T080524Z
UID:10000122-1667125800-1667129400@bridgewater.lutheran.org.au
SUMMARY:Worship with Holy Communion
DESCRIPTION:Worship at Grace (Sundays at 9.30am) follows a regular structure but is informal and relaxed. It’s relational and interactive. Most Sundays we celebrate the Lord’s Supper\, and there is often opportunity for private prayer afterwards. You are welcome to join us for worship in person (COVID sign-in and social distancing in place) or via Zoom. Click here to connect with us via Zoom (Password: Grace). Call Pastor Michael (church office phone 7120 6595) or email him if you would like to find out more about us and our style of worship.
URL:https://bridgewater.lutheran.org.au/event/worship-with-holy-communion/2022-10-30/
LOCATION:Grace Church\, Bridgewater (plus Zoom)\, 15 Wembley Avenue\, Bridgewater\, SA\, 5155\, Australia
CATEGORIES:Worship
ATTACH;FMTTYPE=image/jpeg:https://bridgewater.lutheran.org.au/wp-content/uploads/2021/02/grow12.jpg
ORGANIZER;CN="Pastor Michael Dutschke":MAILTO:michael.dutschke@lca.org.au
GEO:-35.0105323;138.7557833
X-APPLE-STRUCTURED-LOCATION;VALUE=URI;X-ADDRESS=Grace Church Bridgewater (plus Zoom) 15 Wembley Avenue Bridgewater SA 5155 Australia;X-APPLE-RADIUS=500;X-TITLE=15 Wembley Avenue:geo:138.7557833,-35.0105323
END:VEVENT
BEGIN:VEVENT
DTSTART;TZID=Australia/Adelaide:20221106T103000
DTEND;TZID=Australia/Adelaide:20221106T113000
DTSTAMP:20260419T221229
CREATED:20220927T033445Z
LAST-MODIFIED:20251206T080524Z
UID:10000123-1667730600-1667734200@bridgewater.lutheran.org.au
SUMMARY:Worship with Holy Communion
DESCRIPTION:Worship at Grace (Sundays at 9.30am) follows a regular structure but is informal and relaxed. It’s relational and interactive. Most Sundays we celebrate the Lord’s Supper\, and there is often opportunity for private prayer afterwards. You are welcome to join us for worship in person (COVID sign-in and social distancing in place) or via Zoom. Click here to connect with us via Zoom (Password: Grace). Call Pastor Michael (church office phone 7120 6595) or email him if you would like to find out more about us and our style of worship.
URL:https://bridgewater.lutheran.org.au/event/worship-with-holy-communion/2022-11-06/
LOCATION:Grace Church\, Bridgewater (plus Zoom)\, 15 Wembley Avenue\, Bridgewater\, SA\, 5155\, Australia
CATEGORIES:Worship
ATTACH;FMTTYPE=image/jpeg:https://bridgewater.lutheran.org.au/wp-content/uploads/2021/02/grow12.jpg
ORGANIZER;CN="Pastor Michael Dutschke":MAILTO:michael.dutschke@lca.org.au
GEO:-35.0105323;138.7557833
X-APPLE-STRUCTURED-LOCATION;VALUE=URI;X-ADDRESS=Grace Church Bridgewater (plus Zoom) 15 Wembley Avenue Bridgewater SA 5155 Australia;X-APPLE-RADIUS=500;X-TITLE=15 Wembley Avenue:geo:138.7557833,-35.0105323
END:VEVENT
BEGIN:VEVENT
DTSTART;TZID=Australia/Adelaide:20221113T103000
DTEND;TZID=Australia/Adelaide:20221113T113000
DTSTAMP:20260419T221229
CREATED:20220927T033445Z
LAST-MODIFIED:20251206T080524Z
UID:10000124-1668335400-1668339000@bridgewater.lutheran.org.au
SUMMARY:Worship with Holy Communion
DESCRIPTION:Worship at Grace (Sundays at 9.30am) follows a regular structure but is informal and relaxed. It’s relational and interactive. Most Sundays we celebrate the Lord’s Supper\, and there is often opportunity for private prayer afterwards. You are welcome to join us for worship in person (COVID sign-in and social distancing in place) or via Zoom. Click here to connect with us via Zoom (Password: Grace). Call Pastor Michael (church office phone 7120 6595) or email him if you would like to find out more about us and our style of worship.
URL:https://bridgewater.lutheran.org.au/event/worship-with-holy-communion/2022-11-13/
LOCATION:Grace Church\, Bridgewater (plus Zoom)\, 15 Wembley Avenue\, Bridgewater\, SA\, 5155\, Australia
CATEGORIES:Worship
ATTACH;FMTTYPE=image/jpeg:https://bridgewater.lutheran.org.au/wp-content/uploads/2021/02/grow12.jpg
ORGANIZER;CN="Pastor Michael Dutschke":MAILTO:michael.dutschke@lca.org.au
GEO:-35.0105323;138.7557833
X-APPLE-STRUCTURED-LOCATION;VALUE=URI;X-ADDRESS=Grace Church Bridgewater (plus Zoom) 15 Wembley Avenue Bridgewater SA 5155 Australia;X-APPLE-RADIUS=500;X-TITLE=15 Wembley Avenue:geo:138.7557833,-35.0105323
END:VEVENT
BEGIN:VEVENT
DTSTART;TZID=Australia/Adelaide:20221120T103000
DTEND;TZID=Australia/Adelaide:20221120T113000
DTSTAMP:20260419T221229
CREATED:20220927T033445Z
LAST-MODIFIED:20251206T080524Z
UID:10000125-1668940200-1668943800@bridgewater.lutheran.org.au
SUMMARY:Worship with Holy Communion
DESCRIPTION:Worship at Grace (Sundays at 9.30am) follows a regular structure but is informal and relaxed. It’s relational and interactive. Most Sundays we celebrate the Lord’s Supper\, and there is often opportunity for private prayer afterwards. You are welcome to join us for worship in person (COVID sign-in and social distancing in place) or via Zoom. Click here to connect with us via Zoom (Password: Grace). Call Pastor Michael (church office phone 7120 6595) or email him if you would like to find out more about us and our style of worship.
URL:https://bridgewater.lutheran.org.au/event/worship-with-holy-communion/2022-11-20/
LOCATION:Grace Church\, Bridgewater (plus Zoom)\, 15 Wembley Avenue\, Bridgewater\, SA\, 5155\, Australia
CATEGORIES:Worship
ATTACH;FMTTYPE=image/jpeg:https://bridgewater.lutheran.org.au/wp-content/uploads/2021/02/grow12.jpg
ORGANIZER;CN="Pastor Michael Dutschke":MAILTO:michael.dutschke@lca.org.au
GEO:-35.0105323;138.7557833
X-APPLE-STRUCTURED-LOCATION;VALUE=URI;X-ADDRESS=Grace Church Bridgewater (plus Zoom) 15 Wembley Avenue Bridgewater SA 5155 Australia;X-APPLE-RADIUS=500;X-TITLE=15 Wembley Avenue:geo:138.7557833,-35.0105323
END:VEVENT
BEGIN:VEVENT
DTSTART;TZID=Australia/Adelaide:20221127T103000
DTEND;TZID=Australia/Adelaide:20221127T113000
DTSTAMP:20260419T221229
CREATED:20220927T033445Z
LAST-MODIFIED:20251206T080524Z
UID:10000126-1669545000-1669548600@bridgewater.lutheran.org.au
SUMMARY:Worship with Holy Communion
DESCRIPTION:Worship at Grace (Sundays at 9.30am) follows a regular structure but is informal and relaxed. It’s relational and interactive. Most Sundays we celebrate the Lord’s Supper\, and there is often opportunity for private prayer afterwards. You are welcome to join us for worship in person (COVID sign-in and social distancing in place) or via Zoom. Click here to connect with us via Zoom (Password: Grace). Call Pastor Michael (church office phone 7120 6595) or email him if you would like to find out more about us and our style of worship.
URL:https://bridgewater.lutheran.org.au/event/worship-with-holy-communion/2022-11-27/
LOCATION:Grace Church\, Bridgewater (plus Zoom)\, 15 Wembley Avenue\, Bridgewater\, SA\, 5155\, Australia
CATEGORIES:Worship
ATTACH;FMTTYPE=image/jpeg:https://bridgewater.lutheran.org.au/wp-content/uploads/2021/02/grow12.jpg
ORGANIZER;CN="Pastor Michael Dutschke":MAILTO:michael.dutschke@lca.org.au
GEO:-35.0105323;138.7557833
X-APPLE-STRUCTURED-LOCATION;VALUE=URI;X-ADDRESS=Grace Church Bridgewater (plus Zoom) 15 Wembley Avenue Bridgewater SA 5155 Australia;X-APPLE-RADIUS=500;X-TITLE=15 Wembley Avenue:geo:138.7557833,-35.0105323
END:VEVENT
BEGIN:VEVENT
DTSTART;TZID=Australia/Adelaide:20221204T103000
DTEND;TZID=Australia/Adelaide:20221204T113000
DTSTAMP:20260419T221229
CREATED:20220927T033445Z
LAST-MODIFIED:20251206T080524Z
UID:10000127-1670149800-1670153400@bridgewater.lutheran.org.au
SUMMARY:Worship with Holy Communion
DESCRIPTION:Worship at Grace (Sundays at 9.30am) follows a regular structure but is informal and relaxed. It’s relational and interactive. Most Sundays we celebrate the Lord’s Supper\, and there is often opportunity for private prayer afterwards. You are welcome to join us for worship in person (COVID sign-in and social distancing in place) or via Zoom. Click here to connect with us via Zoom (Password: Grace). Call Pastor Michael (church office phone 7120 6595) or email him if you would like to find out more about us and our style of worship.
URL:https://bridgewater.lutheran.org.au/event/worship-with-holy-communion/2022-12-04/
LOCATION:Grace Church\, Bridgewater (plus Zoom)\, 15 Wembley Avenue\, Bridgewater\, SA\, 5155\, Australia
CATEGORIES:Worship
ATTACH;FMTTYPE=image/jpeg:https://bridgewater.lutheran.org.au/wp-content/uploads/2021/02/grow12.jpg
ORGANIZER;CN="Pastor Michael Dutschke":MAILTO:michael.dutschke@lca.org.au
GEO:-35.0105323;138.7557833
X-APPLE-STRUCTURED-LOCATION;VALUE=URI;X-ADDRESS=Grace Church Bridgewater (plus Zoom) 15 Wembley Avenue Bridgewater SA 5155 Australia;X-APPLE-RADIUS=500;X-TITLE=15 Wembley Avenue:geo:138.7557833,-35.0105323
END:VEVENT
BEGIN:VEVENT
DTSTART;TZID=Australia/Adelaide:20221211T103000
DTEND;TZID=Australia/Adelaide:20221211T113000
DTSTAMP:20260419T221229
CREATED:20220927T033445Z
LAST-MODIFIED:20251206T080524Z
UID:10000128-1670754600-1670758200@bridgewater.lutheran.org.au
SUMMARY:Worship with Holy Communion
DESCRIPTION:Worship at Grace (Sundays at 9.30am) follows a regular structure but is informal and relaxed. It’s relational and interactive. Most Sundays we celebrate the Lord’s Supper\, and there is often opportunity for private prayer afterwards. You are welcome to join us for worship in person (COVID sign-in and social distancing in place) or via Zoom. Click here to connect with us via Zoom (Password: Grace). Call Pastor Michael (church office phone 7120 6595) or email him if you would like to find out more about us and our style of worship.
URL:https://bridgewater.lutheran.org.au/event/worship-with-holy-communion/2022-12-11/
LOCATION:Grace Church\, Bridgewater (plus Zoom)\, 15 Wembley Avenue\, Bridgewater\, SA\, 5155\, Australia
CATEGORIES:Worship
ATTACH;FMTTYPE=image/jpeg:https://bridgewater.lutheran.org.au/wp-content/uploads/2021/02/grow12.jpg
ORGANIZER;CN="Pastor Michael Dutschke":MAILTO:michael.dutschke@lca.org.au
GEO:-35.0105323;138.7557833
X-APPLE-STRUCTURED-LOCATION;VALUE=URI;X-ADDRESS=Grace Church Bridgewater (plus Zoom) 15 Wembley Avenue Bridgewater SA 5155 Australia;X-APPLE-RADIUS=500;X-TITLE=15 Wembley Avenue:geo:138.7557833,-35.0105323
END:VEVENT
BEGIN:VEVENT
DTSTART;TZID=Australia/Adelaide:20221218T103000
DTEND;TZID=Australia/Adelaide:20221218T113000
DTSTAMP:20260419T221229
CREATED:20220927T033445Z
LAST-MODIFIED:20251206T080524Z
UID:10000129-1671359400-1671363000@bridgewater.lutheran.org.au
SUMMARY:Worship with Holy Communion
DESCRIPTION:Worship at Grace (Sundays at 9.30am) follows a regular structure but is informal and relaxed. It’s relational and interactive. Most Sundays we celebrate the Lord’s Supper\, and there is often opportunity for private prayer afterwards. You are welcome to join us for worship in person (COVID sign-in and social distancing in place) or via Zoom. Click here to connect with us via Zoom (Password: Grace). Call Pastor Michael (church office phone 7120 6595) or email him if you would like to find out more about us and our style of worship.
URL:https://bridgewater.lutheran.org.au/event/worship-with-holy-communion/2022-12-18/
LOCATION:Grace Church\, Bridgewater (plus Zoom)\, 15 Wembley Avenue\, Bridgewater\, SA\, 5155\, Australia
CATEGORIES:Worship
ATTACH;FMTTYPE=image/jpeg:https://bridgewater.lutheran.org.au/wp-content/uploads/2021/02/grow12.jpg
ORGANIZER;CN="Pastor Michael Dutschke":MAILTO:michael.dutschke@lca.org.au
GEO:-35.0105323;138.7557833
X-APPLE-STRUCTURED-LOCATION;VALUE=URI;X-ADDRESS=Grace Church Bridgewater (plus Zoom) 15 Wembley Avenue Bridgewater SA 5155 Australia;X-APPLE-RADIUS=500;X-TITLE=15 Wembley Avenue:geo:138.7557833,-35.0105323
END:VEVENT
BEGIN:VEVENT
DTSTART;TZID=Australia/Adelaide:20221225T103000
DTEND;TZID=Australia/Adelaide:20221225T113000
DTSTAMP:20260419T221229
CREATED:20220927T033445Z
LAST-MODIFIED:20251206T080524Z
UID:10000130-1671964200-1671967800@bridgewater.lutheran.org.au
SUMMARY:Worship with Holy Communion
DESCRIPTION:Worship at Grace (Sundays at 9.30am) follows a regular structure but is informal and relaxed. It’s relational and interactive. Most Sundays we celebrate the Lord’s Supper\, and there is often opportunity for private prayer afterwards. You are welcome to join us for worship in person (COVID sign-in and social distancing in place) or via Zoom. Click here to connect with us via Zoom (Password: Grace). Call Pastor Michael (church office phone 7120 6595) or email him if you would like to find out more about us and our style of worship.
URL:https://bridgewater.lutheran.org.au/event/worship-with-holy-communion/2022-12-25/
LOCATION:Grace Church\, Bridgewater (plus Zoom)\, 15 Wembley Avenue\, Bridgewater\, SA\, 5155\, Australia
CATEGORIES:Worship
ATTACH;FMTTYPE=image/jpeg:https://bridgewater.lutheran.org.au/wp-content/uploads/2021/02/grow12.jpg
ORGANIZER;CN="Pastor Michael Dutschke":MAILTO:michael.dutschke@lca.org.au
GEO:-35.0105323;138.7557833
X-APPLE-STRUCTURED-LOCATION;VALUE=URI;X-ADDRESS=Grace Church Bridgewater (plus Zoom) 15 Wembley Avenue Bridgewater SA 5155 Australia;X-APPLE-RADIUS=500;X-TITLE=15 Wembley Avenue:geo:138.7557833,-35.0105323
END:VEVENT
BEGIN:VEVENT
DTSTART;TZID=Australia/Adelaide:20230101T103000
DTEND;TZID=Australia/Adelaide:20230101T113000
DTSTAMP:20260419T221229
CREATED:20220927T033445Z
LAST-MODIFIED:20251206T080524Z
UID:10000131-1672569000-1672572600@bridgewater.lutheran.org.au
SUMMARY:Worship with Holy Communion
DESCRIPTION:Worship at Grace (Sundays at 9.30am) follows a regular structure but is informal and relaxed. It’s relational and interactive. Most Sundays we celebrate the Lord’s Supper\, and there is often opportunity for private prayer afterwards. You are welcome to join us for worship in person (COVID sign-in and social distancing in place) or via Zoom. Click here to connect with us via Zoom (Password: Grace). Call Pastor Michael (church office phone 7120 6595) or email him if you would like to find out more about us and our style of worship.
URL:https://bridgewater.lutheran.org.au/event/worship-with-holy-communion/2023-01-01/
LOCATION:Grace Church\, Bridgewater (plus Zoom)\, 15 Wembley Avenue\, Bridgewater\, SA\, 5155\, Australia
CATEGORIES:Worship
ATTACH;FMTTYPE=image/jpeg:https://bridgewater.lutheran.org.au/wp-content/uploads/2021/02/grow12.jpg
ORGANIZER;CN="Pastor Michael Dutschke":MAILTO:michael.dutschke@lca.org.au
GEO:-35.0105323;138.7557833
X-APPLE-STRUCTURED-LOCATION;VALUE=URI;X-ADDRESS=Grace Church Bridgewater (plus Zoom) 15 Wembley Avenue Bridgewater SA 5155 Australia;X-APPLE-RADIUS=500;X-TITLE=15 Wembley Avenue:geo:138.7557833,-35.0105323
END:VEVENT
BEGIN:VEVENT
DTSTART;TZID=Australia/Adelaide:20230108T103000
DTEND;TZID=Australia/Adelaide:20230108T113000
DTSTAMP:20260419T221229
CREATED:20220927T033445Z
LAST-MODIFIED:20251206T080524Z
UID:10000132-1673173800-1673177400@bridgewater.lutheran.org.au
SUMMARY:Worship with Holy Communion
DESCRIPTION:Worship at Grace (Sundays at 9.30am) follows a regular structure but is informal and relaxed. It’s relational and interactive. Most Sundays we celebrate the Lord’s Supper\, and there is often opportunity for private prayer afterwards. You are welcome to join us for worship in person (COVID sign-in and social distancing in place) or via Zoom. Click here to connect with us via Zoom (Password: Grace). Call Pastor Michael (church office phone 7120 6595) or email him if you would like to find out more about us and our style of worship.
URL:https://bridgewater.lutheran.org.au/event/worship-with-holy-communion/2023-01-08/
LOCATION:Grace Church\, Bridgewater (plus Zoom)\, 15 Wembley Avenue\, Bridgewater\, SA\, 5155\, Australia
CATEGORIES:Worship
ATTACH;FMTTYPE=image/jpeg:https://bridgewater.lutheran.org.au/wp-content/uploads/2021/02/grow12.jpg
ORGANIZER;CN="Pastor Michael Dutschke":MAILTO:michael.dutschke@lca.org.au
GEO:-35.0105323;138.7557833
X-APPLE-STRUCTURED-LOCATION;VALUE=URI;X-ADDRESS=Grace Church Bridgewater (plus Zoom) 15 Wembley Avenue Bridgewater SA 5155 Australia;X-APPLE-RADIUS=500;X-TITLE=15 Wembley Avenue:geo:138.7557833,-35.0105323
END:VEVENT
BEGIN:VEVENT
DTSTART;TZID=Australia/Adelaide:20230115T103000
DTEND;TZID=Australia/Adelaide:20230115T113000
DTSTAMP:20260419T221229
CREATED:20220927T033445Z
LAST-MODIFIED:20251206T080524Z
UID:10000133-1673778600-1673782200@bridgewater.lutheran.org.au
SUMMARY:Worship with Holy Communion
DESCRIPTION:Worship at Grace (Sundays at 9.30am) follows a regular structure but is informal and relaxed. It’s relational and interactive. Most Sundays we celebrate the Lord’s Supper\, and there is often opportunity for private prayer afterwards. You are welcome to join us for worship in person (COVID sign-in and social distancing in place) or via Zoom. Click here to connect with us via Zoom (Password: Grace). Call Pastor Michael (church office phone 7120 6595) or email him if you would like to find out more about us and our style of worship.
URL:https://bridgewater.lutheran.org.au/event/worship-with-holy-communion/2023-01-15/
LOCATION:Grace Church\, Bridgewater (plus Zoom)\, 15 Wembley Avenue\, Bridgewater\, SA\, 5155\, Australia
CATEGORIES:Worship
ATTACH;FMTTYPE=image/jpeg:https://bridgewater.lutheran.org.au/wp-content/uploads/2021/02/grow12.jpg
ORGANIZER;CN="Pastor Michael Dutschke":MAILTO:michael.dutschke@lca.org.au
GEO:-35.0105323;138.7557833
X-APPLE-STRUCTURED-LOCATION;VALUE=URI;X-ADDRESS=Grace Church Bridgewater (plus Zoom) 15 Wembley Avenue Bridgewater SA 5155 Australia;X-APPLE-RADIUS=500;X-TITLE=15 Wembley Avenue:geo:138.7557833,-35.0105323
END:VEVENT
BEGIN:VEVENT
DTSTART;TZID=Australia/Adelaide:20230122T103000
DTEND;TZID=Australia/Adelaide:20230122T113000
DTSTAMP:20260419T221229
CREATED:20220927T033445Z
LAST-MODIFIED:20251206T080524Z
UID:10000134-1674383400-1674387000@bridgewater.lutheran.org.au
SUMMARY:Worship with Holy Communion
DESCRIPTION:Worship at Grace (Sundays at 9.30am) follows a regular structure but is informal and relaxed. It’s relational and interactive. Most Sundays we celebrate the Lord’s Supper\, and there is often opportunity for private prayer afterwards. You are welcome to join us for worship in person (COVID sign-in and social distancing in place) or via Zoom. Click here to connect with us via Zoom (Password: Grace). Call Pastor Michael (church office phone 7120 6595) or email him if you would like to find out more about us and our style of worship.
URL:https://bridgewater.lutheran.org.au/event/worship-with-holy-communion/2023-01-22/
LOCATION:Grace Church\, Bridgewater (plus Zoom)\, 15 Wembley Avenue\, Bridgewater\, SA\, 5155\, Australia
CATEGORIES:Worship
ATTACH;FMTTYPE=image/jpeg:https://bridgewater.lutheran.org.au/wp-content/uploads/2021/02/grow12.jpg
ORGANIZER;CN="Pastor Michael Dutschke":MAILTO:michael.dutschke@lca.org.au
GEO:-35.0105323;138.7557833
X-APPLE-STRUCTURED-LOCATION;VALUE=URI;X-ADDRESS=Grace Church Bridgewater (plus Zoom) 15 Wembley Avenue Bridgewater SA 5155 Australia;X-APPLE-RADIUS=500;X-TITLE=15 Wembley Avenue:geo:138.7557833,-35.0105323
END:VEVENT
BEGIN:VEVENT
DTSTART;TZID=Australia/Adelaide:20230129T103000
DTEND;TZID=Australia/Adelaide:20230129T113000
DTSTAMP:20260419T221229
CREATED:20220927T033445Z
LAST-MODIFIED:20251206T080524Z
UID:10000135-1674988200-1674991800@bridgewater.lutheran.org.au
SUMMARY:Worship with Holy Communion
DESCRIPTION:Worship at Grace (Sundays at 9.30am) follows a regular structure but is informal and relaxed. It’s relational and interactive. Most Sundays we celebrate the Lord’s Supper\, and there is often opportunity for private prayer afterwards. You are welcome to join us for worship in person (COVID sign-in and social distancing in place) or via Zoom. Click here to connect with us via Zoom (Password: Grace). Call Pastor Michael (church office phone 7120 6595) or email him if you would like to find out more about us and our style of worship.
URL:https://bridgewater.lutheran.org.au/event/worship-with-holy-communion/2023-01-29/
LOCATION:Grace Church\, Bridgewater (plus Zoom)\, 15 Wembley Avenue\, Bridgewater\, SA\, 5155\, Australia
CATEGORIES:Worship
ATTACH;FMTTYPE=image/jpeg:https://bridgewater.lutheran.org.au/wp-content/uploads/2021/02/grow12.jpg
ORGANIZER;CN="Pastor Michael Dutschke":MAILTO:michael.dutschke@lca.org.au
GEO:-35.0105323;138.7557833
X-APPLE-STRUCTURED-LOCATION;VALUE=URI;X-ADDRESS=Grace Church Bridgewater (plus Zoom) 15 Wembley Avenue Bridgewater SA 5155 Australia;X-APPLE-RADIUS=500;X-TITLE=15 Wembley Avenue:geo:138.7557833,-35.0105323
END:VEVENT
END:VCALENDAR